BEGIN:VCALENDAR
VERSION:2.0
PRODID:-//Adventure Bags - ECPv6.15.20//NONSGML v1.0//EN
CALSCALE:GREGORIAN
METHOD:PUBLISH
X-WR-CALNAME:Adventure Bags
X-ORIGINAL-URL:https://adventurebags.org
X-WR-CALDESC:Events for Adventure Bags
REFRESH-INTERVAL;VALUE=DURATION:PT1H
X-Robots-Tag:noindex
X-PUBLISHED-TTL:PT1H
BEGIN:VTIMEZONE
TZID:America/New_York
BEGIN:DAYLIGHT
TZOFFSETFROM:-0500
TZOFFSETTO:-0400
TZNAME:EDT
DTSTART:20220313T070000
END:DAYLIGHT
BEGIN:STANDARD
TZOFFSETFROM:-0400
TZOFFSETTO:-0500
TZNAME:EST
DTSTART:20221106T060000
END:STANDARD
BEGIN:DAYLIGHT
TZOFFSETFROM:-0500
TZOFFSETTO:-0400
TZNAME:EDT
DTSTART:20230312T070000
END:DAYLIGHT
BEGIN:STANDARD
TZOFFSETFROM:-0400
TZOFFSETTO:-0500
TZNAME:EST
DTSTART:20231105T060000
END:STANDARD
BEGIN:DAYLIGHT
TZOFFSETFROM:-0500
TZOFFSETTO:-0400
TZNAME:EDT
DTSTART:20240310T070000
END:DAYLIGHT
BEGIN:STANDARD
TZOFFSETFROM:-0400
TZOFFSETTO:-0500
TZNAME:EST
DTSTART:20241103T060000
END:STANDARD
END:VTIMEZONE
BEGIN:VEVENT
DTSTART;TZID=America/New_York:20230415T180000
DTEND;TZID=America/New_York:20230415T220000
DTSTAMP:20260421T083718
CREATED:20230326T173030Z
LAST-MODIFIED:20230326T181416Z
UID:1597-1681581600-1681596000@adventurebags.org
SUMMARY:Adventure Bags '23 Gala presented by JP Properties Group
DESCRIPTION:JP Properties Group is pleased to be the Presenting Sponsor of the 2023 Adventure Bags Gala. \nPurchase Tickets \nThe evening will include: \n\nCash Bar\nEntertainment by:\nThe Brian Wiltsey Trio\nDinner\nAwards\nSilent Auction\n\nWe invite you to join us as we continue our mission to serve Georgia’s most vulnerable children…One bag at a time. \nLocate hotels in the area: Click here
URL:https://adventurebags.org/event/adventure-bags-23-gala-presented-by-jp-properties-group/
LOCATION:The Venue at Friendship Springs\, 7340 Friendship Springs Blvd\, Flowery Branch\, GA\, 30542\, United States
ATTACH;FMTTYPE=image/jpeg:https://adventurebags.org/wp-content/uploads/2023/03/r2fu9YkfzL6ae3mFpgpDUq5pEFdIIMCS3LVmjKPe.jpg
END:VEVENT
END:VCALENDAR